BEGIN:VCALENDAR
VERSION:2.0
PRODID:-//FIDO Alliance - ECPv6.15.12.2//NONSGML v1.0//EN
CALSCALE:GREGORIAN
METHOD:PUBLISH
X-WR-CALNAME:FIDO Alliance
X-ORIGINAL-URL:https://fidoalliance.org/?lang=ja
X-WR-CALDESC:FIDO Alliance のイベント
REFRESH-INTERVAL;VALUE=DURATION:PT1H
X-Robots-Tag:noindex
X-PUBLISHED-TTL:PT1H
BEGIN:VTIMEZONE
TZID:Asia/Tokyo
BEGIN:STANDARD
TZOFFSETFROM:+0900
TZOFFSETTO:+0900
TZNAME:JST
DTSTART:20230101T000000
END:STANDARD
END:VTIMEZONE
BEGIN:VTIMEZONE
TZID:Asia/Tokyo
BEGIN:STANDARD
TZOFFSETFROM:+0900
TZOFFSETTO:+0900
TZNAME:JST
DTSTART:20240101T000000
END:STANDARD
END:VTIMEZONE
BEGIN:VEVENT
DTSTART;TZID=Asia/Tokyo:20241212T120000
DTEND;TZID=Asia/Tokyo:20241212T190000
DTSTAMP:20260421T121706
CREATED:20241009T160706Z
LAST-MODIFIED:20241211T055453Z
UID:82072-1734004800-1734030000@fidoalliance.org
SUMMARY:第11回 FIDO東京セミナー 　～パスワードのいらない世界へ～
DESCRIPTION:~ パスキー のさらなる拡大と今後の展望~\n\n\n\n\n\n\n\n従来のパスワードに依存しない新たな認証の仕組みが求められている中、FIDOアライアンスはセキュリティと利便性の両立をめざし、公開鍵暗号方式を活用したシンプルで堅牢な認証技術の仕様策定と認定プログラムの標準化、そしてその普及に努めています。 \n\n\n\nフィッシング耐性のあるFIDO認証はパスキーとしていよいよ本格的な普及段階を迎え、多くの国内企業が提供するサービスへのログインや決済サービスで利用可能となっています。2022年にApple、Google、Microsoftが対応を表明したパスキーは、現在すべての主要プラットフォームで利用可能となり、クレデンシャルマネージャー提供者によるパスキーによりユーザーの選択と自由度も増しており、パスキーによるログイン・認証がさらに加速することが期待されます。  \n\n\n\n今回、“パスキーのさらなる拡大と今後の展望” をテーマに、第11回目となるFIDO東京セミナーを対面で開催する運びとなりました。 \n\n\n\n本セミナーでは、慶應義塾大学 村井 純 教授、OpenID Foundation  理事長 崎村 夏彦氏、デジタル庁 アイデンティティユニット長 林 達也氏をゲストにお迎えし、FIDO認証の最新状況として、パスキーに関する最新の対応状況と導入事例、FIDOアライアンスとFIDO Japan WGの活動、そして、グローバルにおけるFIDO認証の普及を背景に、これからパスキーの導入を検討されているすべての企業・組織の方々に対してさらなる理解を深めていただくために、今回もパネル・セッションなども通じてパスキーの導入がもたらす効果や今後の展望についてお伝えします。 \n\n\n\nさらに、本年6月にGoogle Japanで開催されたパスキーハッカソンと大学の先生方によるセッションを設け、最新の研究成果や技術動向についても深掘りし、参加者の皆様に多角的な知見を提供する予定です。 \n\n\n\n対面開催となる本セミナーでは、来場者とのネットワーキングおよびスポンサー企業によるデモ展示の機会を設けており、講師も含め懇親を深めていただく機会となっておりますので、皆様のご来場をお待ちしております。 \n\n\n\n開催概要\n\n\n\n\n日時: 12月12日(木)12:00開場 13:00開演\n\n\n\n会場： 大手町プレイス ホール&コンファレンス 2F ホール [詳細はこちら]大手町プレイス(イーストタワー) 東京都千代田区大手町2-3-1 2F\n\n\n\n料金： 無料(事前登録制)    、懇親会：有料（費用は受付にて2\,000円(税込)を回収し、領収書をお渡しします）　　　　　　　　　　　　※懇親会費用学割: 1\,000円(税込) – 受付にて学生証をご提示ください。\n\n\n\nセミナー定員: 400人[懇親会の定員は100名、懇親会の定員に達した段階で懇親会受付は締切りとさせていただきます]。\n\n\n\nターゲット： 企業・団体の経営・経営企画部、事業部、ITシステム部、大学関連部局、学生\n\n\n\n\n\n          主催: FIDO アライアンス協賛: FIDO アライアンス メンバー\n         \n\n\n\n\nプログラム&スピーカー\n\n\n\n \n\n\n\n（※同時通訳レシーバーによる案内をご用意しております） \n\n\n\n開始時刻終了時刻                               セッションタイトル講師12:0013:00受付・デモ閲覧13:0013:05ウェルカム・アドレスFIDOアライアンス 執行評議会・ボードメンバー・FIDO Japan WG座長株式会社 NTTドコモ チーフセキュリティアーキテクト　森山 光一13:0513:25ゲスト・キーノート：「インターネット文明：人と地球」慶應義塾大学 教授　村井 純13:2513:45キーノート：FIDOアライアンスからのアップデートFIDOアライアンス CEO兼エグゼクティブディレクターアンドリュー・シキア13:45 13:50パスキーのモメンタム（ビデオ・メッセージ）FIDO アライアンス FIDO2 技術作業部会共同座長Googleクリスチャーン・ブランドOkta アイデンティティスタンダード担当 シニアアーキテクト ティム・カパリ13:5014:05Googleによるパスキーへの最新の取り組みグーグル合同会社　デベロッパーアドボケイト えーじ14:0514:11スポンサーによるプレゼンテーション – アフラック＆トランスミットセキュリティによる認証の革新 ～パスキーとオーケストレーションの事例紹介～Transmit Security Japan株式会社Solutions Engineer松本 央14:1114:17スポンサーによるプレゼンテーション – Global FIDO Success Stories in Financial ServicesDaon\, Inc. VP of Customer Success for EMEA & APAC ポール・ケニー14:1714:46休憩およびデモ閲覧14:4615:03ソニー・インタラクティブエンターテイメントにおけるPasskey導入事例株式会社ソニーインタラクティブエンタテインメント基盤システム・エクスペリエンス設計本部 S部門 2部 7課 Software Engineering Sr. Manager 石川 宙孝15:0315:20Mastercardパスキーによる決済認証の未来Mastercard プロダクツ&ソリューションズ マネージャ加藤 光15:2015:25ステージ入れ替え・休憩15:2516:05パネル・セッション：パスキーハッカソン2024よりモデレーター：グーグル合同会社　デベロッパーアドボケイト　えーじKDDI株式会社 エキスパート　ID認証開発担当 小岩井 航介パネリスト：Keio University SFC-RG pkLock team – 慶應義塾大学 本多 拓翔SKKN (Waseda University) – 渡邉 健TOKYU ID – 東急株式会社 サーバーサイドエンジニア 津久井 日向Team Nulab (Nulab) – 株式会社ヌーラボ 鈴木 智Nikkei ID – 株式会社 日本経済新聞社 部次長 浦野 裕也16:0516:22FIDO認証の取り組みに対する期待早稲田大学　佐古 和恵 教授16:2216:39パスキーの課題に対するセキュリティ心理学的アプローチ情報セキュリティ大学院大学　稲葉 緑 准教授16:39スポンサーによるプレゼンテーション – PC起動時にスマートフォンで一度認証するだけでWindowsからSaaSまでシングルサインオンを実現！FIDOパスワードレス認証ソフトウェアMagicEndpointのご紹介ウィンマジック・ジャパン株式会社 テクニカルディレクター 田沼　洋之スポンサーによるプレゼンテーション – YubiOn・リモートデスクトップもFIDO2認証でログイン（仮）株式会社ソフト技研 Technical Sales Engineer 古谷 充スポンサーによるプレゼンテーション –Nok Nok Labsが実現するパスキーの未来とビジネス戦略Nok Nok Labs\, Inc. カントリーマネージャー 平井　健二16:54スポンサーによるプレゼンテーション –安全で強固な認証をデフォルトに(仮)株式会社インターナショナルシステムリサーチ 代表取締役社長 兼 CEO ラウル・メンデス16:5416:59ステージ入れ替え・休憩16:5917:39パネルセッション：FIDO認証導入の課題と導入効果、今後の展望2025FIDOアライアンス FIDOアライアンスボードメンバー・FIDO Japan WG副座長/LINEヤフー株式会社 LY会員サービス統括本部 ID本部 本部長 伊藤 雄哉 株式会社NTTドコモ スマートライフカンパニー 第一プロダクトデザイン部 セキュリティ基盤担当課長 久保 賢生 KDDI株式会社 パーソナルシステム本部　プラットフォームビジネス部 澤田 英樹株式会社メルカリ Foundation Product Management Div. IDP team　大井 光太郎17:3917:54わたしとパスキーデジタル庁 アイデンティティユニット/アイデンティティアーキテクト責任者林 達也17:5418:11クロージング・キーノート：デジタルアイデンティティのグローバルランドスケープOpenID Foundation 理事長 崎村 夏彦18:1118:16クロージング・リマークFIDOアライアンス CEO兼エグゼクティブディレクター アンドリュー・シキア18:1619:16懇親会/デモ閲覧\n\n\n\n\n\n\n\n\n\n参加登録は締め切りました。現地でも受付可能ですので直接会場にお越しください。\n\n\n\n\nスポンサー\n\n\n\n\n          \n            Platinum\n          \n         \n\n\n\n\n\n\n\n\n\n\n\n\n\n\n\n\n\n\n          \n            Gold\n          \n         \n\n\n\n\n\n\n\n\n\n\n\n\n\n\n\n\n\n\n\n\n\n\n\n\n\n\n\n\n\n\n\n\n          \n            Silver\n          \n         \n\n\n\n\n\n\n\n\n\n\n\n\n\n\n\n\n\n\n\n\n\n\n\n\n\n\n\n\n\n\n\n\n\n\n\n\n\n\n\n\n\n\n\n\n\n\n\n\n\n\n\n\n\n\n\n\n\n\n\n            Media Partner           \n\n\n\n\n\n\n\n\n\n\n\n\n\n\n\n\n\n\n\n\n\n\n\n\n参加登録は締め切りました。現地でも受付可能ですので直接会場にお越しください。
URL:https://fidoalliance.org/event/11th-fido-tokyo-seminar-toward-a-world-without-passwords/?lang=ja
LOCATION:東京都千代田区大手町二丁目3番1号　大手町プレイス (イーストタワー) 2F\, 1000004\, Japan
ATTACH;FMTTYPE=image/png:https://fidoalliance.org/wp-content/uploads/2024/10/tokyo-register.png
END:VEVENT
BEGIN:VEVENT
DTSTART;TZID=Asia/Tokyo:20250326T120000
DTEND;TZID=Asia/Tokyo:20250326T130000
DTSTAMP:20260421T121706
CREATED:20250228T131832Z
LAST-MODIFIED:20250312T050331Z
UID:84017-1742990400-1742994000@fidoalliance.org
SUMMARY:ウェビナー:パスキー 最新導入事例 ご紹介セミナー ～Consumer & Work Force
DESCRIPTION:従来のパスワードに依存しない新たな認証の仕組みが求められている中、FIDOアライアンスはセキュリティと利便性の両立をめざし、公開鍵暗号方式を活用したシンプルで堅牢な認証技術の仕様策定と認定プログラムの標準化、そしてその普及に努めています。 \n\n\n\nフィッシング耐性のあるFIDO認証はパスキーとしていよいよ本格的な普及段階を迎え、多くの国内企業が提供するサービスへのログインや決済サービスで利用可能となっています。2022年にApple、Google、Microsoftが対応を表明したパスキーは、現在すべての主要プラットフォームで利用可能となり、クレデンシャルマネージャー提供者によるパスキーによりユーザーの選択と自由度も増しており、パスキーによるログイン・認証がさらに加速することが期待されます。 \n\n\n\n今回、パスキー 最新導入事例 ご紹介セミナー ～Consumer & Work Forceと題して、2025年3月26日に国内で初めてウェビナーを開催する運びとなりました。 \n\n\n\n本ウェビナーは、 FIDO アライアンス が主催し、International Systems Research Co.(ISR)社および国内のメンバー企業による協賛により開催され、日本経済新聞社から日経IDでのパスキー認証機能導入について、ケイコン社から製造業でのパスキーの社内利用についてご講演いただきます。 \n\n\n\n開催概要 \n\n\n\n日　時：3月26日(水)12:00 ～ 13:00会　場： ON24料　金： 無料(事前登録制)主　催: FIDO アライアンス協　賛: FIDO アライアンス メンバー \n\n\n\n \n\n\n\n\n今すぐ登録\n\n\n\n\nプログラム\n\n\n\n開始終了セッションスピーカー12:0012:05ウェルカム・アドレスFIDOアライアンス 執行評議会・ボードメンバー・FIDO Japan WG座長/株式会社 NTTドコモ チーフセキュリティアーキテクト森山 光一12:0512:25日経IDにおけるパスキー株式会社 日本経済新聞社 ソフトウェアエンジニア淵脇 誠 氏12:2512:35スポンサーセッション:BtoB SaaSにおけるパスキー利用の概況（仮）（株）インターナショナルシステムリサーチ カスタマーサクセス部General Manager有賀 和也 氏12:3512:55製造業におけるパスキーの社内利用について（仮）ケイコン株式会社 情報システム部  荒井 七海 氏12:5513:00クロージング・リマークFIDOアライアンス 執行評議会・ボードメンバー・FIDO Japan WG座長/株式会社 NTTドコモ チーフセキュリティアーキテクト森山 光一\n\n\n\n協賛社:\n\n\n\nSilver \n\n\n\n\n\n\n\nBrand Only \n\n\n\n\n\n\n\n\n今すぐ登録
URL:https://fidoalliance.org/event/webinar-latest-passkeys-use-case-introduction-consumer-workforce-langja/?lang=ja
ATTACH;FMTTYPE=image/png:https://fidoalliance.org/wp-content/uploads/2025/02/FIDO-Use-Case-Webinar-Consumer-and-Workforce.png
END:VEVENT
BEGIN:VEVENT
DTSTART;TZID=Asia/Tokyo:20251205T120000
DTEND;TZID=Asia/Tokyo:20251205T190000
DTSTAMP:20260421T121706
CREATED:20250812T130420Z
LAST-MODIFIED:20260130T060521Z
UID:86727-1764936000-1764961200@fidoalliance.org
SUMMARY:第12回 FIDO東京セミナー 　～パスワードのいらない世界へ～
DESCRIPTION:～「パスキー」によるフィッシング対策と最新動向～\n\n\n\n\n\n\n\n\nイベントのRecapはこちら\n\n\n\n公開許諾済のセッション動画はこちら\n\n\n\n\n\n\n\n\n従来のパスワードに依存しない新たな認証の仕組みが求められている中、FIDOアライアンスはセキュリティと利便性の両立をめざし、公開鍵暗号方式を活用したシンプルで堅牢な認証技術の仕様策定と認定プログラムの標準化、そしてその普及に努めています。 \n\n\n\n今回、「フィッシング対策としてのパスキーの有効性と最新動向」 をテーマに、第12回目となるFIDO東京セミナーを対面で開催する運びとなりました。 \n\n\n\n昨年開催された第11回FIDO東京セミナーでは、パスキーの普及に向けた大きなモメンタムが生まれました。今年はその流れをさらに加速させるべく、より実践的な内容をお届けする予定です。 \n\n\n\n本セミナーではデジタル庁 デジタル社会共通機能グループ 楠 正憲 統括官をキーノートスピーカーとしてお迎えし、デジタルアイデンティと本人確認・認証の重要性、そしてデジタル庁における最新の取り組みについてご講演いただきます。  \n\n\n\nまた、FIDO認証の最新状況として、主要プラットフォーマーによるパスキーの対応状況、FIDOアライアンスとFIDO Japan WGの活動、そして国内外のメンバー企業・政府関係機関によるパスキーの導入と啓発活動についてのご講演を予定しています。 \n\n\n\nさらに、グローバルにおけるFIDO認証の普及を背景に、これからパスキーの導入を検討されているすべての企業・組織の方々に対してさらなる理解を深めていただくために、今回もパネルセッションなども通じてパスキーの導入がもたらす効果や今後の展望についてお伝えします。 \n\n\n\n本セミナーは、パスキーの導入を検討する企業・団体にとって、最新情報と実践的な知見を得る絶好の機会です。皆様のご参加を心よりお待ちしております。  \n\n\n\n\n参加登録は締め切りました\n\n\n\n\n開催概要\n\n\n\n\n開催日： 2025年12月5日（金）\n\n\n\n時　間： 12:00開場 / 13:00開演 / 18:00～懇親会\n\n\n\n会　場： 東京ポートシティ竹芝 ポートホール\n\n\n\n参加費： 無料（事前登録制）\n\n\n\n定　員： 300名（残席わずか）\n\n\n\n懇親会：懇親会枠は満席の為、申込を締切ました。セミナーのみのご参加はまだ受けつけております。\n\n\n\n言語サポート: 全セッションに同時通訳（日本語 ⇄ 英語）あり\n\n\n\n\n \n\n\n\nプログラム\n\n\n\n※同時通訳レシーバーによる案内をご用意しております \n\n\n\n※プログラム、登壇予定の講師は予告なく変更になる場合があります \n\n\n\n\n\n\n\n開 始時 刻終 了時 刻セッションタイトル講師12:0013:00受付・デモ閲覧13:0013:10ウェルカム・アドレスFIDOアライアンス 執行評議会・ボードメンバー・FIDO Japan WG座長/株式会社 NTTドコモ チーフセキュリティアーキテクト　森山 光一13:1113:31ゲスト・キーノート：Digital Identityを取り巻く最近の課題とデジタル庁の取組デジタル庁　デジタル社会共通機能グループ 統括官   楠 正憲13:3213:47FIDOアライアンス・キーノート～パスキーとアイデンティライフサイクルFIDOアライアンス CEO兼エグゼクティブディレクター　アンドリュー・シキア13:4814:03サイバー空間をめぐる脅威情勢と警察の取組警察庁 サイバー警察局 サイバー企画課 課長補佐　三宮 隆秀14:0414:14金融分野におけるサイバーセキュリティについて金融庁 総合政策局 リスク分析総括課 ITサイバー・経済安全保障監理官室 課長補佐 松長 基史14:1514:32証券業界におけるFIDO2導入と今後楽天証券株式会社 取締役 副社長執行役員　平山 忍14:3314:48スポンサーによるプレゼンテーション – Signature SponsorAugmenting Passkey in Highly Regulated Use CasesOneSpan\, Senior Director\, Services APAC ギム・レン・コー14:4914:59スポンサーによるプレゼンテーション – Gold x 3日本の証券会社におけるFIDO導入の成功事例日本のMFA導入問題についてAI新時代におけるデバイス固定パスキーの役割とはRaonSecure Co. Ltd. President / FIDOアライアンス ボードメンバーユージン・リー株式会社インターナショナルシステムリサーチ 代表取締役社長 メンデス・ラウル／営業本部本部長 柴田 一人Yubico 戦略営業統括部長 椎名 エバレット弘15:0015:25休憩およびデモ閲覧15:2515:30ビデオメッセージ～将来に向けたテクニカルリーダーシップGoogle Identity and Authentication Lead for the Android Platform　リー・キャンベル （FIDOアライアンス Digital Credential WG共同座長 (new)）15:3115:46Googleプラットフォームのパスキー最新情報グーグル合同会社　デベロッパーアドボケイト えーじ15:5116:06『パスキーのすべて』を知る前に、今さら聞けないパスキーの基本とこれからえーじKDDI株式会社 アプリケーション開発部 エキスパート ID認証開発担当  小岩井 航介OpenIDファウンデーション・ジャパン 理事・エバンジェリスト 倉林 雅16:0716:37パネルセッション：Passkey Index Japan – パスキーのさらなる展開に向けてモデレーター：LINEヤフー株式会社 ID会員サービスSBU IDユニット ユニットリード 本部長 伊藤 雄哉（FIDO Japan WG副座長）パネリスト：株式会社NTTドコモ　コンシューマサービスカンパニー　マーケティング戦略部　担当部長 久保 賢生KDDI株式会社 パーソナルシステム本部プラットフォームビジネス部 ビジネス企画グループ 澤田 英樹株式会社メルカリFoundation and Identity Principal Engineer 狩野 達也（FIDO アライアンス Consumer Deployment WG共同座長）FIDOアライアンス チーフ・マーケティング・オフィサー　メーガン・シャーマス16:3816:48スポンサーによるプレゼンテーション – Gold x 3Daon 統合認証プラットフォームのご紹介Twilio Verify × Passkeyで実現する、次世代の認証体験〜MFAを超えて。Passkeyが拓く、安全でシームレスなログイン戦略〜Daon Director of Sales Japan 吉井 孝Twilio Japan プリンシパル・ソリューションアーキテクト 中村 光晴16:5317:38パネルセッション：デジタルクレデンシャルとアイデンティライフサイクルモデレーター：森山 光一OpenID Foundation 理事長 崎村 夏彦OpenID ファウンデーション・ジャパン 代表理事 富士榮 尚寛デジタル庁 アイデンティティユニット長 林 達也FIDOアライアンス CEO兼エグゼクティブディレクター アンドリュー・シキア17:3917:44クロージング・リマークFIDOアライアンス CEO兼エグゼクティブディレクターアンドリュー・シキア18:0019:00懇親会/デモ閲覧\n\n\n\n \n\n\n\n\n\n\n\n \n\n\n\n\n参加登録は締め切りました\n\n\n\n\n\n\n\n\n協　賛　社\n\n\n\nSignature スポンサー\n\n\n\n\n\n\n\n\n\n\n\nGold スポンサー\n\n\n\n\n\n\n\n\n\n\n\n\n\n\n\n\n\n\n\n\n\n\n\n\n\n\n\n\n\n\n\n\n\n\n\n\n\n\n\nSilver スポンサー\n\n\n\n\n\n\n\n\n\n\n\n\n\n\n\n\n\n\n\n\n\n\n\n\n\n\n\n\n\n\n\n\n\n\n\n\n\n\n\n\n\n\n\n\n\n\n\n\n\n\n\n\n\n\n\n\n\n\n\n \n\n\n\nBronze スポンサー\n\n\n\n\n\n\n\n\n\n\n\n\n\n\n\nメディアパートナー
URL:https://fidoalliance.org/event/fido-tokyo-seminar/?lang=ja
ATTACH;FMTTYPE=image/png:https://fidoalliance.org/wp-content/uploads/2025/08/FIDO-Tokyo-Seminar.png
END:VEVENT
END:VCALENDAR