BEGIN:VCALENDAR
VERSION:2.0
PRODID:-//FIDO Alliance - ECPv6.0.13.1//NONSGML v1.0//EN
CALSCALE:GREGORIAN
METHOD:PUBLISH
X-WR-CALNAME:FIDO Alliance
X-ORIGINAL-URL:https://fidoalliance.org
X-WR-CALDESC:Events for FIDO Alliance
REFRESH-INTERVAL;VALUE=DURATION:PT1H
X-Robots-Tag:noindex
X-PUBLISHED-TTL:PT1H
BEGIN:VTIMEZONE
TZID:America/Los_Angeles
BEGIN:DAYLIGHT
TZOFFSETFROM:-0800
TZOFFSETTO:-0700
TZNAME:PDT
DTSTART:20230312T100000
END:DAYLIGHT
BEGIN:STANDARD
TZOFFSETFROM:-0700
TZOFFSETTO:-0800
TZNAME:PST
DTSTART:20231105T090000
END:STANDARD
END:VTIMEZONE
BEGIN:VEVENT
DTSTART;TZID=America/Los_Angeles:20230327T000000
DTEND;TZID=America/Los_Angeles:20230331T235959
DTSTAMP:20230523T075852
CREATED:20230119T194451Z
LAST-MODIFIED:20230310T192601Z
UID:10000026-1679875200-1680307199@fidoalliance.org
SUMMARY:User Authentication Interop Testing Event (Remote)
DESCRIPTION:Interoperability Testing Event: FIDO2 & FIDO UAF \n\n\n\nOverview: interoperability testing events are a forum for implementers to gather and validate that their implementations are compatible with each other. Interoperability testing is also a functional requirement for server and authenticator product certifications.  \n\n\n\nAll testing is completed remotely. Given the testing environment\, participants that are completing testing for an authenticator should be prepared to set up both web camera viewing and screen sharing capability so that the interoperability steps can be visually verified as they are performed\, including all actions being performed on all devices.   \n\n\n\nEach implementer will test their implementation with those of other implementers. For example\, a FIDO2 Server will test with all FIDO2 Authenticators present at an event; likewise\, a UAF Client/Authenticator will test with all UAF Servers. For each combination of participants\, the corresponding UAF and FIDO2 testing procedures listed below will be performed. Implementations showing that they can pass the testing procedures with all the other implementations at the event\, or that can show that any failed testing procedures are not due to their implementations being non-conformant with the FIDO specifications\, will pass the interoperability event and remain eligible for proceeding to the next certification step. \n\n\n\nPrerequisites: prior to registering for an interoperability event\, an implementation must pass conformance testing self‐validation and the implementation must not be changed before the interoperability event. Participants must register at least 12 days prior to the event. A non-disclosure agreement is required to protect all test participants’ confidential information. The non-disclosure agreement is available here. \n\n\n\nImplementers are strongly advised to participate in pre-testing. Pre-testing is scheduled to take place the week prior to each event. The intent of pre-testing is to give the companies that will be participating in the interoperability event the ability to exchange software\, metadata\, and test with each other ahead of the event. For those implementers that opt-in to pre-testing\, their contact information will be shared with other implementers ahead of the event so that they may communicate with each other to share the appropriate information and perform pre-testing. \n\n\n\nCancellation: in the event that there are not enough implementations to hold an interoperability testing event\, the event will be canceled and potential participants will be notified 10 days before the event. \n\n\n\nAvailability: interoperability events are held at least once every 90 days for active versions of the specifications\, this includes all versions that have not yet reached a sunset date. A schedule of all upcoming events can be found here. \n\n\n\n\nRegister
URL:https://fidoalliance.org/event/user-authentication-interop-testing-event-remote/
LOCATION:Remote
CATEGORIES:FIDO Certification,Industry Event,Interop
ATTACH;FMTTYPE=image/png:https://media.fidoalliance.org/wp-content/uploads/2023/01/Join-our-Interop-Testing-Event.png
ORGANIZER;CN="FIDO%20Certification%20Team":MAILTO:certification@fidoalliance.org
END:VEVENT
END:VCALENDAR