BEGIN:VCALENDAR
VERSION:2.0
PRODID:-//FIDO Alliance - ECPv6.15.12.2//NONSGML v1.0//EN
CALSCALE:GREGORIAN
METHOD:PUBLISH
X-WR-CALNAME:FIDO Alliance
X-ORIGINAL-URL:https://fidoalliance.org
X-WR-CALDESC:Events for FIDO Alliance
REFRESH-INTERVAL;VALUE=DURATION:PT1H
X-Robots-Tag:noindex
X-PUBLISHED-TTL:PT1H
BEGIN:VTIMEZONE
TZID:Asia/Singapore
BEGIN:STANDARD
TZOFFSETFROM:+0800
TZOFFSETTO:+0800
TZNAME:+08
DTSTART:20250101T000000
END:STANDARD
END:VTIMEZONE
BEGIN:VEVENT
DTSTART;TZID=Asia/Singapore:20260602T080000
DTEND;TZID=Asia/Singapore:20260603T170000
DTSTAMP:20260419T191129
CREATED:20251027T155149Z
LAST-MODIFIED:20260415T123736Z
UID:87446-1780387200-1780506000@fidoalliance.org
SUMMARY:Authenticate APAC 2026
DESCRIPTION:FIDO Alliance’s Authenticate APAC Conference will take place June 2-3\, 2026 at the Grand Hyatt in Singapore. \n\n\n\nRegistration\n\n\n\nRegistration is open.  \n\n\n\nAuthenticate is the industry’s only conference dedicated to digital identity and authentication with a focus on phishing-resistant sign-ins with passkeys. \n\n\n\nJoin CISOs\, business leaders\, product managers\, security strategists and identity architects at Authenticate to advance your knowledge of digital identity and authentication. \n\n\n\n\nRegister Now\n\n\n\n\nAgenda and Speakers\n\n\n\nThe initial agenda is available and speakers have been announced. \n\n\n\nSponsorship Opportunities\n\n\n\nWe are offering a wide range of opportunities for companies to reach their target audiences and maximize brand exposure. \n\n\n\nThe 2026 event will include our a dynamic expo hall where all exhibiting sponsors can showcase their solutions and meet companies looking for partners on their path to passwordless – including a modern expo hall with updated amenities\, ample meeting space for customer and/or team meetings\, dedicated opportunities for networking\, and more. \n\n\n\nInterested in becoming a sponsor for the Authenticate APAC Conference?  \n\n\n\nView the Prospectus. Fill out the form and become a sponsor today. \n\n\n\nSponsors\n\n\n\n\n\n\n\n\n\n\n\n\n\n\n\n\n\n\n\n\n\n\n\n\n\n\n\n\n\n\n\n\n\n\n\n\n\n\n\n\n\n\n\n\n\n\n\n\n\n\n\n\n\n\n\n\n\n\n\n\n\n\n\n\n\n\n\n\n\n\n\n\n\n\n\n\n\n\n\n\n\n\n\n\n\n\n\n\n\n\n\n\n\n\n\n\n\n\n\n\n\n\n\n\n\n\n\n\n\n\n\n\n\n\n\n\n\n\n\n\n\n\n\n\n\n\n\n\n\n\n\n\n\n\n\n\n\n\n\n\n\n\n\n\n\nSpeakers\n\n\n\nWe are excited to share we have announced our first round of speakers. Check out these speakers on the Authenticate APAC event website. More speakers will be announced.
URL:https://fidoalliance.org/event/authenticate-apac-2026/
ATTACH;FMTTYPE=image/png:https://fidoalliance.org/wp-content/uploads/2025/10/Reg-Open-APAC_1.png
END:VEVENT
END:VCALENDAR