BEGIN:VCALENDAR
VERSION:2.0
PRODID:-//FIDO Alliance - ECPv6.0.13.1//NONSGML v1.0//EN
CALSCALE:GREGORIAN
METHOD:PUBLISH
X-ORIGINAL-URL:https://fidoalliance.org/?lang=zh-hans
X-WR-CALDESC:FIDO Alliance的活动
REFRESH-INTERVAL;VALUE=DURATION:PT1H
X-Robots-Tag:noindex
X-PUBLISHED-TTL:PT1H
BEGIN:VTIMEZONE
TZID:Europe/Dublin
BEGIN:STANDARD
TZOFFSETFROM:+0000
TZOFFSETTO:+0100
TZNAME:IST
DTSTART:20230326T010000
END:STANDARD
BEGIN:DAYLIGHT
TZOFFSETFROM:+0100
TZOFFSETTO:+0000
TZNAME:GMT
DTSTART:20231029T010000
END:DAYLIGHT
END:VTIMEZONE
BEGIN:VEVENT
DTSTART;TZID=Europe/Dublin:20230523T080000
DTEND;TZID=Europe/Dublin:20230525T170000
DTSTAMP:20230523T085104
CREATED:20230214T190209Z
LAST-MODIFIED:20230314T185350Z
UID:10000031-1684828800-1685034000@fidoalliance.org
SUMMARY:FIDO Alliance Member Plenary in Dublin
DESCRIPTION:Dublin\, Ireland | May 23-25\, 2023 \n\n\n\nFIDO members can visit Causeway for more information.
URL:https://fidoalliance.org/event/fido-alliance-seminar-in-dublin-ireland/
LOCATION:Dublin\, Ireland
END:VEVENT
END:VCALENDAR