BEGIN:VCALENDAR
VERSION:2.0
PRODID:-//FIDO Alliance - ECPv6.0.13.1//NONSGML v1.0//EN
CALSCALE:GREGORIAN
METHOD:PUBLISH
X-ORIGINAL-URL:https://fidoalliance.org/?lang=ja
X-WR-CALDESC:FIDO Alliance のイベント
REFRESH-INTERVAL;VALUE=DURATION:PT1H
X-Robots-Tag:noindex
X-PUBLISHED-TTL:PT1H
BEGIN:VTIMEZONE
TZID:Asia/Krasnoyarsk
BEGIN:STANDARD
TZOFFSETFROM:+0700
TZOFFSETTO:+0700
TZNAME:+07
DTSTART:20230101T000000
END:STANDARD
TZID:America/Los_Angeles
BEGIN:DAYLIGHT
TZOFFSETFROM:-0800
TZOFFSETTO:-0700
TZNAME:PDT
DTSTART:20230312T100000
END:DAYLIGHT
BEGIN:STANDARD
TZOFFSETFROM:-0700
TZOFFSETTO:-0800
TZNAME:PST
DTSTART:20231105T090000
END:STANDARD
TZID:Asia/Tokyo
BEGIN:STANDARD
TZOFFSETFROM:+0900
TZOFFSETTO:+0900
TZNAME:JST
DTSTART:20230101T000000
END:STANDARD
TZID:America/New_York
BEGIN:DAYLIGHT
TZOFFSETFROM:-0500
TZOFFSETTO:-0400
TZNAME:EDT
DTSTART:20230312T070000
END:DAYLIGHT
BEGIN:STANDARD
TZOFFSETFROM:-0400
TZOFFSETTO:-0500
TZNAME:EST
DTSTART:20231105T060000
END:STANDARD
END:VTIMEZONE
BEGIN:VEVENT
DTSTART;TZID=Asia/Krasnoyarsk:20230530T080000
DTEND;TZID=Asia/Krasnoyarsk:20230602T170000
DTSTAMP:20230523T064243
CREATED:20230320T174750Z
LAST-MODIFIED:20230504T214844Z
UID:10000044-1685433600-1685725200@fidoalliance.org
SUMMARY:FIDO Alliance at Identiverse 2023
DESCRIPTION:Connect with the brightest minds in the Identity Industry. \n\n\n\nExperience unparalleled education\, collaboration\, and insight into the future of Identity. Join us in Las Vegas at the end of May for a unique event experience and participate alongside experts and peers in information-rich sessions on the latest technologies\, best practices\, and industry trends. \n\n\n\n\n\n\n\nAttend these FIDO Alliance sessions!\n\n\n\n\n\n\n\nTuesday\, May 30 \n\n\n\n\n2:30pm-3:20pm PDT | Go Passwordless with Passkeys: A WebAuthn Developer Workshop\n\n\n\n\nWednesday\, May 31 \n\n\n\n\n10:30am-11:55am PDT | Passkeys are Here! What Now?\n\n\n\n2:00pm-2:50pm PDT | Optimizing UX for Passkeys\n\n\n\n3:00pm-3:50pm PDT | Passkey Early Adopters Fireside Chat\n\n\n\n\nThursday\, June 1 \n\n\n\n\n11:30am-12:20PM PDT | A Year with Passkeys\n\n\n\n3:35pm-4:00pm PDT | How Hyatt is Driving Exceptional Customer Experiences with Modern FIDO Passwordless Authentication\n\n\n\n\n\n\n\n\n\n\n\n\nStop by our booth #1437! We’d love to talk to you\n\n\n\n\n\n\n\n\nView the Agenda and Register!
URL:https://fidoalliance.org/event/fido-alliance-at-identiverse-2023/
ATTACH;FMTTYPE=image/png:https://media.fidoalliance.org/wp-content/uploads/2023/03/Identiverse-2023_1-01.png
END:VEVENT
BEGIN:VEVENT
DTSTART;TZID=America/Los_Angeles:20230612T000000
DTEND;TZID=America/Los_Angeles:20230616T235959
DTSTAMP:20230523T064243
CREATED:20230119T195342Z
LAST-MODIFIED:20230214T184218Z
UID:10000027-1686528000-1686959999@fidoalliance.org
SUMMARY:User Authentication Interop Testing Event (Remote)
DESCRIPTION:Interoperability Testing Event: FIDO2 & FIDO UAF \n\n\n\nOverview: interoperability testing events are a forum for implementers to gather and validate that their implementations are compatible with each other. Interoperability testing is also a functional requirement for server and authenticator product certifications.  \n\n\n\nAll testing is completed remotely. Given the testing environment\, participants that are completing testing for an authenticator should be prepared to set up both web camera viewing and screen sharing capability so that the interoperability steps can be visually verified as they are performed\, including all actions being performed on all devices.   \n\n\n\nEach implementer will test their implementation with those of other implementers. For example\, a FIDO2 Server will test with all FIDO2 Authenticators present at an event; likewise\, a UAF Client/Authenticator will test with all UAF Servers. For each combination of participants\, the corresponding UAF and FIDO2 testing procedures listed below will be performed. Implementations showing that they can pass the testing procedures with all the other implementations at the event\, or that can show that any failed testing procedures are not due to their implementations being non-conformant with the FIDO specifications\, will pass the interoperability event and remain eligible for proceeding to the next certification step. \n\n\n\nPrerequisites: prior to registering for an interoperability event\, an implementation must pass conformance testing self‐validation and the implementation must not be changed before the interoperability event. Participants must register at least 12 days prior to the event. A non-disclosure agreement is required to protect all test participants’ confidential information. The non-disclosure agreement is available here. \n\n\n\nImplementers are strongly advised to participate in pre-testing. Pre-testing is scheduled to take place the week prior to each event. The intent of pre-testing is to give the companies that will be participating in the interoperability event the ability to exchange software\, metadata\, and test with each other ahead of the event. For those implementers that opt-in to pre-testing\, their contact information will be shared with other implementers ahead of the event so that they may communicate with each other to share the appropriate information and perform pre-testing. \n\n\n\nCancellation: in the event that there are not enough implementations to hold an interoperability testing event\, the event will be canceled and potential participants will be notified 10 days before the event. \n\n\n\nAvailability: interoperability events are held at least once every 90 days for active versions of the specifications\, this includes all versions that have not yet reached a sunset date. A schedule of all upcoming events can be found here. \n\n\n\n\nRegister
URL:https://fidoalliance.org/event/user-authentication-interop-testing-event-remote-2/
LOCATION:Remote
ORGANIZER;CN="FIDO%20Certification%20Team":MAILTO:certification@fidoalliance.org
END:VEVENT
BEGIN:VEVENT
DTSTART;TZID=Asia/Tokyo:20230614T100000
DTEND;TZID=Asia/Tokyo:20230616T180000
DTSTAMP:20230523T064243
CREATED:20230519T073339Z
LAST-MODIFIED:20230523T034005Z
UID:10000051-1686736800-1686938400@fidoalliance.org
SUMMARY:FIDO Alliance at Interop Tokyo 2023
DESCRIPTION:従来のパスワードに依存しない新たな認証の仕組みが求められている中、FIDOアライアンスはセキュリティと利便性の両立をめざし、公開鍵暗号方式を活用したシンプルで堅牢な認証技術の仕様策定と認定プログラムの標準化、そして普及に努めています。 \n\n\n\nフィッシング耐性のあるFIDO認証はいよいよ本格的な普及段階を迎え、多くの国内企業が提供するサービスへのログインや決済サービスでFIDO認証が利用可能です。既にGoogle Chrome、Microsoft Edge、Mozilla Firefox、Safariの各主要ブラウザはFIDO2/Web認証に対応し、様々な環境でFIDO認証を利用する環境が拡大しています。昨年、大手プラットフォーマーが発表したパスキーへの対応により、さらにFIDO認証を利用しやすい環境が整うことが期待されます。 \n\n\n\n\nEventに関する詳細はこちら\n\n\n\n\n\n\n\n\nFIDO認証が以前にも増してフィッシング耐性のあるオンライン認証として注目をいただいている中、国内外のメンバー企業の協賛によりInterop Tokyo への出展が決定しました。FIDOアライアンスブースでは、国内外メンバー企業による具体的な製品・ソリューションの展示・デモに加え、各社からの講演を予定しております。 \n\n\n\n本イベントでは、FIDO認証の最新状況として、主要プラットフォーマーによるPasskeys（パスキー）の対応状況、FIDOアライアンスとFIDO Japan WGの活動、そして国内外のメンバー企業における具体的なデモ展示およびブース内講演を予定しています。 \n\n\n\n幕張メッセ  FIDOアライアンス ブース #5U17に是非お越しください!\n\n\n\n詳しくは、Interop Tokyo 2023の概要とセミナーの詳細をご確認ください。\n\n\n\n\n\n\n\n\n出展・講演情報はこちら\n\n\n\n\n\n\n\n\n\nEventへの事前参加登録はこちら\n\n\n\n\n\n\n\n\nThank You to Our Sponsors
URL:https://fidoalliance.org/event/fido-alliance-at-interop-tokyo-2023/
ATTACH;FMTTYPE=image/png:https://media.fidoalliance.org/wp-content/uploads/2023/03/Japan-IT-Week_Social_1.png
END:VEVENT
BEGIN:VEVENT
DTSTART;TZID=America/New_York:20230629T080000
DTEND;TZID=America/New_York:20230629T170000
DTSTAMP:20230523T064243
CREATED:20230516T182305Z
LAST-MODIFIED:20230516T182309Z
UID:10000052-1688025600-1688058000@fidoalliance.org
SUMMARY:Authenticate Virtual Summit: Passkeys in the Enterprise
DESCRIPTION:Authenticate Virtual Summits are a series of virtual seminars that delve into specific topics related to the FIDO approach to modern user authentication. The summits are free to attend and are marketed to the combined FIDO Alliance and Authenticate communities\, which reflect over 20\,000 contacts that have demonstrated prior interest in learning more about FIDO technologies. \n\n\n\nMore information\, including registration and the full agenda to come. Stay tuned!
URL:https://fidoalliance.org/event/authenticate-virtual-summit-passkeys-in-the-enterprise/
END:VEVENT
END:VCALENDAR